BEGIN:VCALENDAR
VERSION:2.0
PRODID:-//Kálmán Imre Művelődési Központ - ECPv6.3.3.1//NONSGML v1.0//EN
CALSCALE:GREGORIAN
METHOD:PUBLISH
X-WR-CALNAME:Kálmán Imre Művelődési Központ
X-ORIGINAL-URL:https://muvelodesikozpont-siofok.hu
X-WR-CALDESC:Events for Kálmán Imre Művelődési Központ
REFRESH-INTERVAL;VALUE=DURATION:PT1H
X-Robots-Tag:noindex
X-PUBLISHED-TTL:PT1H
BEGIN:VTIMEZONE
TZID:Europe/Budapest
BEGIN:DAYLIGHT
TZOFFSETFROM:+0100
TZOFFSETTO:+0200
TZNAME:CEST
DTSTART:20250330T010000
END:DAYLIGHT
BEGIN:STANDARD
TZOFFSETFROM:+0200
TZOFFSETTO:+0100
TZNAME:CET
DTSTART:20251026T010000
END:STANDARD
END:VTIMEZONE
BEGIN:VEVENT
DTSTART;TZID=Europe/Budapest:20250720T190000
DTEND;TZID=Europe/Budapest:20250816T220000
DTSTAMP:20260423T104059
CREATED:20250516T123110Z
LAST-MODIFIED:20250520T114309Z
UID:10000728-1753038000-1755381600@muvelodesikozpont-siofok.hu
SUMMARY:Zene a Zöldben
DESCRIPTION:Zene a Zöldben\nSiófok\, Jókai park\, vasárnap \nJúlius 20. 19:00\nDaniel Speer Brass Fúvószenekar\nA rézfúvós kamaramuzsika gyöngyszemei \nJúlius 27. 19:00\nSólya Zenekar\nNépzene élőben \nAugusztus 3. 19:00\nSzirtes Edina “Mókus”\nA virág szebb a világnál \nAugusztus 10. 19:00\nHorgas Eszter és Falusi Mariann\nÖrömzene a Zöldben \nAugusztus 16. 20:00\nDunakeszi Szimfonikus Zenekar\nFilmzene\nHajóállomás \nA rendezvény ingyenesen látogatható!
URL:https://muvelodesikozpont-siofok.hu/esemenyek/zene-a-zoldben-4/
CATEGORIES:Előadások, koncertek
ATTACH;FMTTYPE=image/jpeg:https://muvelodesikozpont-siofok.hu/wp-content/uploads/2025/05/ZAZ_2025_-_Weboldal_esemeny_kep_1920x1080_-_01.jpg
END:VEVENT
BEGIN:VEVENT
DTSTART;TZID=Europe/Budapest:20250721T173000
DTEND;TZID=Europe/Budapest:20250818T210000
DTSTAMP:20260423T104059
CREATED:20250516T123015Z
LAST-MODIFIED:20250520T114346Z
UID:10000727-1753119000-1755550800@muvelodesikozpont-siofok.hu
SUMMARY:Vakációs gyermekkoncertek
DESCRIPTION:Nyári Zenei Estek 2025\nVakációs gyermekkoncertek\nSiófok\, hajóállomás\, hétfő \nJúlius 21.\n17:30 – 21:00\nKézműves foglalkozások (afrikai nyakékek\, maszkok) és ügyességi játékok\n19:00 – 20:30\nAfroKora – interaktív gyermekkoncert \nJúlius 28.\n17:30 – 18:00\nRingató foglalkozás Kersák Edinával\n19:00 – 20:30\nSólya zenekar interaktív gyermekkoncert és táncház \nAugusztus 4.\n17:30 – 18:20\nSanyi\, én és a gyerekek – interaktív vándormese\n19:00 – 20:30\nLóca Együttes interaktív gyermekkoncert \nAugusztus 11.\n19:00 – 20:30\nBognár Szilvia: Lepedőcske\, párnocska – gyermekkoncert \nAugusztus 18.\n18:00 – 19:30\nLaposa Julcsi: Nyári Kavalkád – interaktív gyermekkoncert és táncház \nMinden alkalommal: 17:30 – 21:00\nKézműves foglalkozás és játszóház (Afrikora/ Tered/ Levendula Játszóház és Alkotóműhely \nA részletes programtervért\, és az aktuális kísérő programokért keressék az események plakátját\, facebook eseményét\, vagy honlapunkat! \nA rendezvény ingyenesen látogatható!
URL:https://muvelodesikozpont-siofok.hu/esemenyek/vakacios-gyermekkoncertek-2/
CATEGORIES:Előadások, koncertek
ATTACH;FMTTYPE=image/jpeg:https://muvelodesikozpont-siofok.hu/wp-content/uploads/2025/05/Vakacios_Gyermekkoncertek_2025_-_Weboldal_esemeny_kep_1920x1080_-_01.jpg
END:VEVENT
BEGIN:VEVENT
DTSTART;TZID=Europe/Budapest:20250723T190000
DTEND;TZID=Europe/Budapest:20250813T210000
DTSTAMP:20260423T104059
CREATED:20250516T122835Z
LAST-MODIFIED:20250520T114241Z
UID:10000726-1753297200-1755118800@muvelodesikozpont-siofok.hu
SUMMARY:Operett estek a Dunakeszi Szimfonikus Zenekarral
DESCRIPTION:Nyári Zenei Estek 2025\nOperett estek a Dunakeszi Szimfonikus Zenekarral\nSiófok\, Hajóállomás\, szerda \n2025. július 23. 19:00\nSzellők szárnyán\nszólisták: Denk Viktória és Jenei Gábor \n2025. július 30. 19:00\nHallgat ajkam\, hív e dallam…\nszólisták: Vörös Edit és Domoszlai Sándor \n2025. augusztus 6. 19:00\nEmlékszel még\nszólisták: Lőrincz Judit\, Pacskó Dorka\, Buch Tibor és Kovács Szilárd \n2025. augusztus 13. 19:00\n„És ami kimaradt…” – fergeteges operettgála\nszólisták: Kékkovács Mara\, Pánczél Klaudia\, Boncsér Gergely és Bozsó József \nA rendezvény ingyenesen látogatható!
URL:https://muvelodesikozpont-siofok.hu/esemenyek/operett-estek-a-dunakeszi-szimfonikus-zenekarral/
CATEGORIES:Előadások, koncertek
ATTACH;FMTTYPE=image/jpeg:https://muvelodesikozpont-siofok.hu/wp-content/uploads/2025/05/Operett_estek_2025_-_Weboldal_esemeny_kep_1920x1080_-_01.jpg
END:VEVENT
BEGIN:VEVENT
DTSTART;TZID=Europe/Budapest:20250725T190000
DTEND;TZID=Europe/Budapest:20250815T203000
DTSTAMP:20260423T104059
CREATED:20250516T120937Z
LAST-MODIFIED:20250516T120937Z
UID:10000724-1753470000-1755289800@muvelodesikozpont-siofok.hu
SUMMARY:KultTér
DESCRIPTION:KultTér\nSiófok\, Teátrum Kávéház\, péntek \n2025.07.25 19.00\nWunderlich József és Bach Kata\n‘Fa leszek\, ha’\nmegzenésített klasszikus és kortárs versek \n2025.08.01 19.00\nUdvaros Dorottya\n„Csend. Törékeny. Üres”\nfelolvasószínházi est\nAdy Endre és Pilinszky János műveiből \n2025.08.08 19.00\nJordán Tamás\n’Széllel szembe’\npoénok és poémák\,\nstand up est \n2025.08.15 19.00\nKárász Eszter és Kerekes József\n’Nő és Férfi százféle változatban’\ndalok a századelőtől napjainkig \nJegyár: 2.500 Ft \nJegyek hamarosan kaphatóak!
URL:https://muvelodesikozpont-siofok.hu/esemenyek/kultter-2/
CATEGORIES:Előadások, koncertek
ATTACH;FMTTYPE=image/jpeg:https://muvelodesikozpont-siofok.hu/wp-content/uploads/2025/05/KultTer_2025_-_Weboldal_esemeny_kep_1920x1080_-_01.jpg
END:VEVENT
BEGIN:VEVENT
DTSTART;TZID=Europe/Budapest:20250726T200000
DTEND;TZID=Europe/Budapest:20250818T220000
DTSTAMP:20260423T104059
CREATED:20250516T122726Z
LAST-MODIFIED:20250520T114505Z
UID:10000725-1753560000-1755554400@muvelodesikozpont-siofok.hu
SUMMARY:Nyáresti koncertek
DESCRIPTION:Nyári Zenei Estek 2025\nNyáresti koncertek\nSiófok\, hajóállomás \nJúlius 26.\, szombat 20:00\nMujahid Zoltán és Zenekara: Szécsi Pál koncert\, vendég: Tóth Vera \nAugusztus 2.\, szombat 20:00\nSárik Péter Trió és Falusi Mariann: Jazzkívánságműsor magyarul ráadás \nAugusztus 9.\, szombat 20:00\nSzulák Andrea és a Stúdió 11 Zenekar: Kedvenc dolgaim \nAugusztus 15.\, péntek 20:00\nPeter Šrámek koncert \nAugusztus 17.\, vasárnap 20:00\nBikini koncert \nAugusztus 18.\, hétfő 20:00\nLászló Attila koncert: A zene összeköt \nA rendezvény ingyenesen látogatható!
URL:https://muvelodesikozpont-siofok.hu/esemenyek/nyaresti-koncertek-2/
CATEGORIES:Előadások, koncertek
ATTACH;FMTTYPE=image/jpeg:https://muvelodesikozpont-siofok.hu/wp-content/uploads/2025/05/Nyaresti_Koncertek_2025_-_Weboldal_esemeny_kep_1920x1080_-_01.jpg
END:VEVENT
BEGIN:VEVENT
DTSTART;TZID=Europe/Budapest:20250801T190000
DTEND;TZID=Europe/Budapest:20250801T190000
DTSTAMP:20260423T104059
CREATED:20250519T142246Z
LAST-MODIFIED:20250519T142255Z
UID:10000732-1754074800-1754074800@muvelodesikozpont-siofok.hu
SUMMARY:Udvaros Dorottya - „Csend. Törékeny. Üres”
DESCRIPTION:2025.08.01 péntek 19.00\nKultTér\nUdvaros Dorottya\n„Csend. Törékeny. Üres”\nfelolvasószínházi est\nAdy Endre és Pilinszky János műveiből\nSiófok\, Teátrum Kávéház \nPilinszky János: Vallomás Adyról \n„Ady ébresztett rá a költészet értelmére tizennégy éves koromban. Mégis tökéletesen\nmegértem\, miért hanyatlott napjainkban költészete iránti szeretetünk\, lelkesedésünk.” \nA koncentrációs táborok világa\, az egyetlen kis didergő molekulára redukált ember\nután mit kezdjünk Ady királyi pózaival? József Attila mérésadatai az emberről és a\nmindenségről kétségtelenül sokkalta pontosabbak\, használhatóbbak számunkra. \nAdy helye a világirodalomban? Sajnos\, Adyt fordítani szinte lehetetlen. Költészete\nfőként nyelvi és képi szuggesztiókból él\, ami sehogy se tűri meg a fordítás – minden\nfordítás – nélkülözhetetlen értelmező munkáját. Igaz\, minden költői nyelv szimbolikus\,\nnemcsak Adyé. De például József Attila szimbólumai valamiféle hyperkonkrétság\nszabatosságával hatnak – tökéletesen fotogének\, hogy úgy mondjam\, tehát\nfordíthatóak\, előhívhatóak\, átvihetőek bármelyik idegen nyelv képernyőjére. \nAdy jövője? Az értékelésében mutatkozó apály – szerintem – előbb-utóbb eltűnik\nmajd. Hiszen épp költészetének „királyi eleme” rendkívül gazdag\, sokrétű\, ha sokszor\ntöbb is van benne – sajnos – a nietzscheánus\, mint az evangéliumi királyságból. \nAdy és a modernitás? Számomra – mindenek ellenére – döntően és végérvényesen\nAdy a legjelentősebb modern magyar költő. Mint Baudelaire a franciáknál\, ő az\, aki\nAtlasz módjára megfordította hátán a régi világot\, mondhatnám úgy is\, a régi magyar\nvilágot. Ilyen tettre csak szuverén óriás vállalkozhatott. Hogy mások Európa\nmodernebb törekvéseit közvetítették volna? Mit számít? Ady egy irodalomtörténeti\npillanatban a glóbus ránk eső pontján magára vette és meg is fordította a világot. A\ntöbbi irodalom. És többnyire csak irodalom már. \nHatása? Közvetlenül vagy közvetve szinte valamennyiünkben tovább él.\nLegnyilvánvalóbban Juhász Ferenc lírájában\, aki Ady kozmikus sugallatait igyekszik\nlenyűgöző részletmunkákkal egy az egyhez arányban konkretizálni. (1969) \n„A hallgatózó kert alól\na fa az űrbe szimatol\,\na csend törékeny és üres\,\na rét határokat keres. \nRiadtan elszorul szived\,\naz út lapulva elsiet\,\na rózsatő is ideges\nmosollyal önmagába les:\ntávoli\, kétes tájakon\nkészülődik a fájdalom.” \nRendező: Seres Tamás\nA műsor hossza: 70 perc \nJegyár: 2.500 Ft \nJegyek kaphatóak minden hétköznap 12-18-ig a KIMK jegypénztárában\, illetve a kimk.jegy.hu oldalon:\nhttps://kimk.jegy.hu/program/udvaros-dorottya-csend-torekeny-ures-177440
URL:https://muvelodesikozpont-siofok.hu/esemenyek/udvaros-dorottya-csend-torekeny-ures/
CATEGORIES:Előadások, koncertek
ATTACH;FMTTYPE=image/jpeg:https://muvelodesikozpont-siofok.hu/wp-content/uploads/2025/05/Udvaros-Dorottya2-1920x1080-1.jpg
END:VEVENT
BEGIN:VEVENT
DTSTART;TZID=Europe/Budapest:20250802T203000
DTEND;TZID=Europe/Budapest:20250802T203000
DTSTAMP:20260423T104059
CREATED:20250424T130117Z
LAST-MODIFIED:20250612T080806Z
UID:10000720-1754166600-1754166600@muvelodesikozpont-siofok.hu
SUMMARY:Vendégprodukció - Lánybúcsú
DESCRIPTION:2025. augusztus 2. szombat 20:30\nLánybúcsú – musical – Liliom Produkció\nVendégprodukció\nKálmán Imre Szabadtéri Színpad\, Jókai park 5. \nA Liliom Produkció új musical bemutatója nem meglepő módon négy negyvenes gyerekkori barátnő (Alíz\, Bella\, Petra és Laura) viszontagságairól szól\, akik egy Balaton-felvidéki villában töltik \,\,lánybúcsújukat”. \nAz összejövetel persze nem megy olyan simán\, mint ahogy azt eltervezték\, hiszen a nyaralótulajdonos színésznő mama és Erzsike\, a – szinte családtag házvezetőnő – minderről semmit nem tud.\nA villában sorra megjelennek a nem várt vendégek\, a vendégek vendégei\, még olyanok is\, akikre senki nem számított vagy akire mások régóta várnak. Előkerül a pezsgő és egyéb innivalók így nemcsak a vendégek de a bonyodalmak is egyre szaporodnak\, a csontvázak pedig csak úgy potyognak a szekrényből. Ráadásul Laura sütije kifejezetten nehezíti a helyzetet…\nA négy nő – Erzsikével megspékelve – nagy erőkkel próbálják kibogozni a félreértéseket – kevés sikerrel – ám szerencséjükre megérkezik András…\nA Liliom Produkció jóvoltából a nézők újra egy remek szórakoztató női darabot láthatnak a színpadon\, amelyben most a férfi simítja el a bonyodalmakat. Természetesen mindez nem lenne annyira ütős a süti\, Bódi László\, Cipő és a Republic együttes dalai nélkül.\nA musicalben olyan slágerek csendülnek fel sok más népszerű dal mellett mint a Repül a bálna\, Szállj el kismadár vagy a Neked könnyű lehet 🙂 \nSzereposztás\nNÓRA: Sztarek Andrea\nERZSIKE: Oszvald Marika\nPETRA: Fekete Linda\nALÍZ: Gyebnár Csekka\nBELLA: Kokas Piroska\nLAURA: Tunyogi Bernadett\nANDRÁS: Bardóczy Attila \nZene: Bódi Làszló\, Cipő és a Republic\nA Liliom produkció ötletéből írta: Sztárek Andrea\nDramaturg: Barbinek Paula\nKoreográfus: Bakó Gábor\nJelmez: Ungár Anikó\nDíszlet: Szvatek Péter\nHangszerelés: Maráth Viktor\nKorrepetítor: Fehér Adrienn\nRendezte: Tallós Rita\nProducer: Timár Krisztina\nForgalmazó: New Season Produkciós Iroda \nA szereplőváltoztatás jogát fenntartjuk! \nJegyek kaphatóak minden hétköznap 12-18-ig a KIMK jegypénztárában\, illetve a liliomprodukcio.jegy.hu oldalon:\nhttps://liliomprodukcio.jegy.hu/program/lanybucsu-musical-174344 \n0000Nap00óra00perc00másodperc
URL:https://muvelodesikozpont-siofok.hu/esemenyek/vendegprodukcio-lanybucsu/
CATEGORIES:Előadások, koncertek,Szabadtéri Színpad
ATTACH;FMTTYPE=image/jpeg:https://muvelodesikozpont-siofok.hu/wp-content/uploads/2025/04/Lanybucsu-e1747145452387.jpg
END:VEVENT
BEGIN:VEVENT
DTSTART;TZID=Europe/Budapest:20250806T203000
DTEND;TZID=Europe/Budapest:20250806T203000
DTSTAMP:20260423T104059
CREATED:20250401T103855Z
LAST-MODIFIED:20250612T080854Z
UID:10000711-1754512200-1754512200@muvelodesikozpont-siofok.hu
SUMMARY:A padlás - Pannon Várszínház
DESCRIPTION:2025. augusztus 6. szerda 20.30\nesőnap: 2025. augusztus 7. csütörtök 20.30\nPresser Gábor – Sztevanovity Dusán – Horváth Péter:\nA padlás – Pannon Várszínház\nfélig mese\, félig musical\nKálmán Imre Szabadtéri Színpad\, Jókai park 5. \nEz\, az immár klasszikussá vált zenés játék ugyancsak az ifjúság identitásának kérdésével foglalkozik. A műfaji meghatározás pontos\, hiszen mesés elemek\, csodák\, időutazások\, szellemek és az ő kedves játékaik kísérik azt a történetet\, melyben mában élő hőseink ármányok\, féltékenységek\, kicsinyességek\, gyanúsítgatások\, bűnözők\, rendőrök\, házmesterek szorításában próbálnak egymásra\, azaz boldogságra találni. Mindezt Horváth Péter szellemes librettójában\, Presser Gábor és Dusán Sztevanovity szinte kivétel nélkül slágerré vált dalaival élik meg. A transzcendenciával\, a szellemvilággal\, az idő és a tér relativitásával szembesülő fiatalok – megküzdve a való élet kisszerűségével is – más minőségű életre képesek\, fel tudják fedezni egymásban és önmagukban a végtelent\, túl tudnak lépni a hétköznapok sivárságán. \nEz a játék legalább annyira filozofikus\, mint a klasszikus mesék többsége: egyszerű\, élvezhető\, sőt szórakoztató képletbe helyezi a létezés alapkérdéseit\, a saját életük felépítését tervező fiatalok élet-halál küzdelmét. \nSzereposztás: \nRádiós: Havasi Tamás / Ruff Roland\nSüni: Baranyi Hanna / Magashegyi Nóra / Takáts Boglárka\nMamóka: Oravecz Edit\nBarrabás B Barrabás\, a gengszter\nRévész\, aki külsőleg azonos Barrabással: Keresztesi László / Szelle Dávid\nHerceg\, szellem\, 550 éves: Koscsisák András\nKölyök\, szellem\, 530 éves: Magashegyi Nóra\nLámpás\, szellem\, 670 éves: Kovács Gábor / Farkas Fruzsina\nMeglökő\, szellem 560 éves: Farkas-Csányi Attila / Kuti Gergely\nTémüller\, önkéntes: Hédl-Szabó Dániel / Csabai Pál\nDetektív: Kárpáti Barbara\nÜteg: Pintér Zoltán Dániel\nRobinson\, a gép: Szelle Dávid / Guba Ákos \nDíszlettervező: Kovács Yvette Alida\nJelmeztervező: Justin Júlia\nKoreográfus: Krámer György\nKorrepetitor: Regovics Zsuzsa\nTársulatvezető: Oravecz Edit\, Szelle Dávid \nRendező: Vándorfi László \nJegyárak:\nI. szektor: 10.500 Ft\nII. szektor: 9.500 Ft\nIII. szektor: 8.500 Ft\nIV. szektor: 7.500 Ft \nJegyek kaphatóak minden hétköznap 12-18-ig a KIMK jegypénztárában\, illetve a kimk.jegy.hu oldalon:\nhttps://kimk.jegy.hu/program/a-padlas-pannon-varszinhaz-175169 \n0000Nap00óra00perc00másodperc
URL:https://muvelodesikozpont-siofok.hu/esemenyek/a-padlas-pannon-varszinhaz-2/
CATEGORIES:Előadások, koncertek,Szabadtéri Színpad
ATTACH;FMTTYPE=image/jpeg:https://muvelodesikozpont-siofok.hu/wp-content/uploads/2025/04/A_padlas_2025_-_Weboldal_esemeny_kep_1920x1080_-_01.jpg
END:VEVENT
BEGIN:VEVENT
DTSTART;TZID=Europe/Budapest:20250808T190000
DTEND;TZID=Europe/Budapest:20250808T190000
DTSTAMP:20260423T104059
CREATED:20250519T140801Z
LAST-MODIFIED:20250519T140836Z
UID:10000730-1754679600-1754679600@muvelodesikozpont-siofok.hu
SUMMARY:Jordán Tamás - ’Széllel szembe’
DESCRIPTION:2025.08.08 péntek 19.00\nKultTér\nJordán Tamás\n’Széllel szembe’\npoénok és poémák\,\nstand up est\nSiófok\, Teátrum Kávéház \nJordán Tamás rendkívül szellemes stand up comedy-vel rukkolt elő\, Széllel szembe címmel. Történeteket mesél\, köztük sok színházit\, úgy\, hogy a beszédfolyamba verseket sző. De úgy mondja a költeményeket\, annyira természetes hangon\, mintha csak diskurálna\, folytatná a sztorizást. Vicc\, adoma\, groteszkbe hajló história és Karinthy\, Kosztolányi\, Radnóti\, József Attila\, Ady\, Babits egybeolvad. Döbbenetes tömör bölcsesség\, jól érzi magát a bő lére eresztett sztorizás közben. A könnyed történetek túlmutatnak önmagukon. Fantasztikusan széles hangulati és érzelmi skálán játszik. \nAz előadás 2013-ban megkapta a Vidor fesztivál különdíját „példaértékű műfaji újításáért”. \nJegyár: 2.500 Ft \nJegyek kaphatóak minden hétköznap 12-18-ig a KIMK jegypénztárában\, illetve a kimk.jegy.hu oldalon:\nhttps://kimk.jegy.hu/program/jordan-tamas-szellel-szembe-177437
URL:https://muvelodesikozpont-siofok.hu/esemenyek/jordan-tamas-szellel-szembe/
CATEGORIES:Előadások, koncertek
ATTACH;FMTTYPE=image/jpeg:https://muvelodesikozpont-siofok.hu/wp-content/uploads/2025/05/Jordan-Tamas-1920x1080-1.jpg
END:VEVENT
BEGIN:VEVENT
DTSTART;TZID=Europe/Budapest:20250808T203000
DTEND;TZID=Europe/Budapest:20250808T203000
DTSTAMP:20260423T104059
CREATED:20250401T105349Z
LAST-MODIFIED:20250612T080936Z
UID:10000714-1754685000-1754685000@muvelodesikozpont-siofok.hu
SUMMARY:Képzelt riport egy amerikai popfesztiválról - Pannon Várszínház
DESCRIPTION:2025. augusztus 8. péntek 20:30\nesőnap: 2025. augusztus 9. szombat 20:30\nDéry Tibor\, Pós Sándor\, Presser Gábor\, Adamis Anna:\nKépzelt riport egy amerikai popfesztiválról – Pannon Várszínház\nKálmán Imre Szabadtéri Színpad\, Jókai park 5. \nAz első magyar musical Déry Tibor legendás regényéből Presser Gábor zenéjével és az LGT közreműködésével készült. Az immár klasszikus rockmusical az Orfeusz-motívumra épül: a szerelmes férfi /József/ alászáll az „alvilágba” elragadott kedvese /Eszter/ megkeresésére. A Déry Tibor által megírt pokol az elhíresült altamonti rockfesztivál\, ahol a Rolling Stones együttes koncertjén egy néger fiút meggyilkoltak a fékevesztett hangulatban. \nEz a drámai alaphelyzet alkalmat ad a szerzőknek arra\, hogy nyíltan\, megrázóan szóljanak történelmünk poklairól\, kirekesztettségről\, másságokról és azonosságokról\, döbbenetes erővel fogalmazzák meg egy értékvesztett világban útját kereső fiatalság magányát\, kétségbeesettségét\, tisztaság utáni vágyát. \nPresser Gábor slágerré vált dalai minden korosztály számára meghatározóak\, biztosítják a produkció iránti érdeklődést. \nAz előadás időtartama: 2 óra 30 perc\, szünettel \nFőbb szerepekben:\nSzabó Kimmel Tamás\nTrokán Nóra\nNovák Péter\nEkanem Bálint Emota\nFekete Linda \nRendező: Vándorfi László \nJegyárak:\nI. szektor: 18.000 Ft\nII. szektor: 17.000 Ft\nIII. szektor: 14.000 Ft\nIV. szektor: 9.000 Ft \n  \nJegyek kaphatóak minden hétköznap 12-18-ig a KIMK jegypénztárában\, illetve a kimk.jegy.hu oldalon:\nhttps://kimk.jegy.hu/program/kepzelt-riport-egy-amerikai-popfesztivalrol-pannon-varszinhaz-175171 \n0000Nap00óra00perc00másodperc
URL:https://muvelodesikozpont-siofok.hu/esemenyek/kepzelt-riport-egy-amerikai-popfesztivalrol-pannon-varszinhaz/
CATEGORIES:Előadások, koncertek,Szabadtéri Színpad
ATTACH;FMTTYPE=image/jpeg:https://muvelodesikozpont-siofok.hu/wp-content/uploads/2025/04/Kepzelt_riport_egy_amerikai_popfesztivalrol_2025_-_FBWeboldal_esemeny_kep_1920x1080_-_02.jpg
END:VEVENT
BEGIN:VEVENT
DTSTART;TZID=Europe/Budapest:20250812T203000
DTEND;TZID=Europe/Budapest:20250812T203000
DTSTAMP:20260423T104059
CREATED:20250401T105824Z
LAST-MODIFIED:20250612T081040Z
UID:10000713-1755030600-1755030600@muvelodesikozpont-siofok.hu
SUMMARY:Made In Hungaria - József Attila Színház
DESCRIPTION:2025. augusztus 12. kedd 20:30\nesőnap: 2025. augusztus 13. szerda 20:30\nFenyő Miklós – Tasnádi István:\nMade In Hungaria – József Attila Színház\nZenés házibuli\nKálmán Imre Szabadtéri Színpad\, Jókai park 5. \nTartson velünk egy igazi házibuliba! Idézzük meg együtt a Szent István parkot\, az Ipoly mozit\, a Dagály Fürdőt – szűkebb hazánk\, a budapesti XIII. kerület nevezetes pontjait; és a Ki mit tud?-ok korszakát\, amikor is egy kezdő\, fiatal zenekar még pálmafákat tudott a Váci út macskaköveire varázsolni. \nHúsz éve tartottuk az ősbemutatót\, több száz telt házas előadás után pedig most újra műsorra tűzzük a legendás musicalt\, társulatunk fiatal művészeinek közreműködésével. Egy generáció felnőtt\, de a rock and roll örök! \nSzereplők: \nRicky\, azaz „Amerika magyarhangja”: Fekete Gábor\nJerry Lee Lewis: Kékesi Gábor\nRudi\, cukrász\, dobon: Kenderes Csaba\nRöné\, a csókkirály\, gitáron: Lukács Dániel\nCsipu\, szaxi és egyebek: Brunczlík Péter\nTripolisz\, bass: Károlyi Krisztián\nKis Nyírő\, önkéntes technikus: Konfár Erik\nBigali elvtárs\, polifunkcionárius: Fila Balázs\nVera: Horváth Csenge\nMarina: Kónya Merlin Renáta\nDuci Juci: Katz Zsófi\nAnya: Auksz Éva\nApa: Chajnóczki Balázs\nSampon\, a Figaro együttes frontembere: Horváth Barnabás\nA Figaro együttes tagja: Simon Péter\nHella\, a baráti NDK-ból: Kucskár Kamilla\nGretchen\, szintén: Sinka Edina\nTurbina tizedes: Blazsovszky Ákos\nCitrom elvtárs: Bergendi Áron\nBizsu: Szucskó Noémi\nMűsorvezető: Fazekas Zsuzsanna\nHázmester: Katona Zsolt \nTánckar:\nDomány Réka\, Frindik Nóra\, Jakab Zsanett\, Kékesi Diána\, Tonhaizer Tünde\, Veres Dóra\, Vianello Julia\, Asszú Ábel\, Bárány Péter\, Málits András\, Czakó Gábor\, Horváth Ádám\, Jakab Roland\, Kercsó Attila\, Matics Roland\, Schrott Dániel \nAlkotók: \nDíszlettervező: Ábrahám Péter\nJelmeztervező: Ónódi Mara\nDramaturg: Szokolai Brigitta\nZeneszerző: Novai Gábor\nZenei vezető: Vecsei László\nKoreográfus: Gyulai Júlia\nKoreográfus asszisztens: Horváth Ádám\nSúgó: Törőcsik Eszter\nÜgyelő: Pethő Dávid\nRendezőasszisztens: Jámpa Krisztina\nRendező: Lengyel Ferenc \nAz előadás Fenyő Miklós\, Novai Gábor és Tasnádi István hozzájárulásával jött létre.\nAz előadás hossza: 3 óra 15 perc \nJegyárak:\nI. szektor: 14.500 Ft\nII. szektor: 12.500 Ft\nIII. szektor: 11.500 Ft\nIV. szektor: 9.000 Ft \nJegyek kaphatóak minden hétköznap 12-18-ig a KIMK jegypénztárában\, illetve a kimk.jegy.hu oldalon:\nhttps://kimk.jegy.hu/program/made-in-hungaria-jozsef-attila-szinhaz-175172 \n0000Nap00óra00perc00másodperc
URL:https://muvelodesikozpont-siofok.hu/esemenyek/made-in-hungaria-jozsef-attila-szinhaz/
CATEGORIES:Előadások, koncertek,Szabadtéri Színpad
ATTACH;FMTTYPE=image/jpeg:https://muvelodesikozpont-siofok.hu/wp-content/uploads/2025/04/Made_in_Hungaria_2025_-_FBWeboldal_esemeny_kep_1920x1080_-_02.jpg
END:VEVENT
BEGIN:VEVENT
DTSTART;TZID=Europe/Budapest:20250815T190000
DTEND;TZID=Europe/Budapest:20250815T190000
DTSTAMP:20260423T104059
CREATED:20250519T141901Z
LAST-MODIFIED:20250519T141922Z
UID:10000731-1755284400-1755284400@muvelodesikozpont-siofok.hu
SUMMARY:Kárász Eszter és Kerekes József - ’Nő és Férfi százféle változatban’
DESCRIPTION:2025.08.15 péntek 19.00\nKultTér\nKárász Eszter és Kerekes József\n’Nő és Férfi százféle változatban’\ndalok a századelőtől napjainkig\nSiófok\, Teátrum Kávéház \nEgy nő. Egy férfi. \nÜres színpad. Majdnem. \nFormáját tekintve az alkotók egy összművészeti színházi előadást hoznak létre\, melyben Kárász Eszter és Kerekes József drámai és vicces szituációkat előadva egyszerre énekelnek és zenélnek\, a dalokat pedig prózai tartalmakkal szövik keresztül\, amelyek humorosan\, ironikusan\, de legfőképpen őszintén mutatják be egy férfi-női viszony dinamikáját. \nAz előadás egy könnyed\, zenével átitatott műsor\, amely megélt\, igazi állomásokat mutat be a színészek és több mint 100 év nagy szerelmeinek történeteiből a legkülönfélébb módokon\, így az előadás személyes érintettséggel mesél – őszintén és kendőzetlenül\, mégis keserédes keveréket alkotva a fikciós elemekkel és merész túlzásokkal. \nAz alkotók egy szórakoztató\, mégis minőségi estével készülnek\, amelyet zenészek segítségével\, élő zenével követhetünk végig százféle változatban – dalok a századelőtől napjainkig\, sanzonoktól\, örökkedvenc filmzenéken át a világzenéből és jazzből merített könnyűzenéig\, újraértelmezett slágereken át\, önfeledt rokkendrollokig\, összekacsintós swingekig és elmerengő lírai dalokig és mai világzenéig – sok humorral és öniróniával. \nNő: Kárász Eszter\nFérfi: Kerekes József\n4 fős zenekarral \nJegyár: 2.500 Ft \nJegyek kaphatóak minden hétköznap 12-18-ig a KIMK jegypénztárában\, illetve a kimk.jegy.hu oldalon:\nhttps://kimk.jegy.hu/program/karasz-eszter-es-kerekes-jozsef-no-es-ferfi-szazfele-valtozatban-177438
URL:https://muvelodesikozpont-siofok.hu/esemenyek/karasz-eszter-es-kerekes-jozsef-no-es-ferfi-szazfele-valtozatban/
CATEGORIES:Előadások, koncertek
ATTACH;FMTTYPE=image/jpeg:https://muvelodesikozpont-siofok.hu/wp-content/uploads/2025/05/Karasz-Eszter-es-Kerekes-Jozsef-1920x1080-1.jpg
END:VEVENT
BEGIN:VEVENT
DTSTART;TZID=Europe/Budapest:20250816T200000
DTEND;TZID=Europe/Budapest:20250816T200000
DTSTAMP:20260423T104059
CREATED:20250728T104937Z
LAST-MODIFIED:20250808T121051Z
UID:10000736-1755374400-1755374400@muvelodesikozpont-siofok.hu
SUMMARY:ELMARAD! Kökény Attila és Rakonczai Viktor koncert - Vendégprodukció
DESCRIPTION:Tisztelt Vendégeink! \nA szervezők tájékoztatása szerint az alábbi előadás technikai okok miatt elmarad: \nKökény Attila és Rakonczai Viktor koncert 2025.08.16 20:00 \nA Kálmán Imre Művelődési Központban és egyéb jegyirodákban vásárolt jegyeit az alábbi linken keresztül rögzítheti visszaváltásra 2025.08.30-ig: \nhttps://www.jegy.hu/jegyirodaivisszavaltas \nA sikeres rögzítés után minden esetben kiküldésre kerül a megadott email címre egy megerősítő email. \nA jegy árát a rögzítéskor megadott bankszámlaszámra átutalással térítik vissza a jegyvisszaváltási határidő lejárta után. \nSzíves megértésüket köszönjük!
URL:https://muvelodesikozpont-siofok.hu/esemenyek/kokeny-attila-es-rakonczai-viktor-koncert/
CATEGORIES:Előadások, koncertek,Szabadtéri Színpad
ATTACH;FMTTYPE=image/jpeg:https://muvelodesikozpont-siofok.hu/wp-content/uploads/2025/07/524288231_1310277407120116_6895169212283640992_n-1.jpg
END:VEVENT
END:VCALENDAR