BEGIN:VCALENDAR
VERSION:2.0
PRODID:-//Kálmán Imre Művelődési Központ - ECPv6.3.3.1//NONSGML v1.0//EN
CALSCALE:GREGORIAN
METHOD:PUBLISH
X-ORIGINAL-URL:https://muvelodesikozpont-siofok.hu
X-WR-CALDESC:Events for Kálmán Imre Művelődési Központ
REFRESH-INTERVAL;VALUE=DURATION:PT1H
X-Robots-Tag:noindex
X-PUBLISHED-TTL:PT1H
BEGIN:VTIMEZONE
TZID:Europe/Budapest
BEGIN:DAYLIGHT
TZOFFSETFROM:+0100
TZOFFSETTO:+0200
TZNAME:CEST
DTSTART:20260329T010000
END:DAYLIGHT
BEGIN:STANDARD
TZOFFSETFROM:+0200
TZOFFSETTO:+0100
TZNAME:CET
DTSTART:20261025T010000
END:STANDARD
END:VTIMEZONE
BEGIN:VEVENT
DTSTART;TZID=Europe/Budapest:20260423T180000
DTEND;TZID=Europe/Budapest:20260423T180000
DTSTAMP:20260423T104056
CREATED:20260402T110956Z
LAST-MODIFIED:20260402T110959Z
UID:10000837-1776967200-1776967200@muvelodesikozpont-siofok.hu
SUMMARY:Kávéházi operett: Szendy Szilvi és Laki Péter
DESCRIPTION:2026. április 23. csütörtök 18.00\nKávéházi estek\nKávéházi operett:\nSzendy Szilvi és Laki Péter\nKálmán Imre Művelődési Központ\, teátrum \nA tavaszi esték különleges hangulatát idézi meg a Kávéházi operett estek következő rendezvénye\, ahol a zene\, a történetek és a személyes hangvétel találkozik egy meghitt\, kávéházi atmoszférában.\n2026. április 23-án\, csütörtökön 18 órától a siófoki Kálmán Imre Művelődési Központ ad otthont a Kávéházi operett estek következő előadásának\, ahol Farkas Pál karmester beszélgetéssel\, kulisszatitkokkal és személyes történetekkel vezeti végig a közönséget az operett varázslatos világán két kiváló és kedvelt művésszel\, Szendy Szilvivel és Laki Péterrel.\nAz est során felcsendülnek a legismertebb operettrészletek\, amelyeket a Dunakeszi Szimfonikus Zenekar kamaraegyüttese kísér. A zenei élményt anekdoták és műhelytitkok színesítik\, így a közönség nemcsak hallgatója\, hanem részese is lehet az operett világának.\nEgy este\, ahol a dallamok mesélnek\, a történetek megelevenednek\, és a kávéházi hangulat közelebb hozza egymáshoz művészt és közönséget. \nJegyek kaphatóak minden hétköznap 12-18-ig a KIMK jegypénztárában\, illetve a kimk.jegy.hu oldalon:\nhttps://kimk.jegy.hu/program/kavehazi-operett-estek-szendy-szilvi-es-laki-peter-190948
URL:https://muvelodesikozpont-siofok.hu/esemenyek/kavehazi-operett-szendy-szilvi-es-laki-peter/
CATEGORIES:Előadások, koncertek
ATTACH;FMTTYPE=image/png:https://muvelodesikozpont-siofok.hu/wp-content/uploads/2026/04/Kavehazi_Estek_-_Szendy_Szilvi_es_Laki_Peter_2026_FB_esemenykep-scaled.png
END:VEVENT
END:VCALENDAR