BEGIN:VCALENDAR
VERSION:2.0
PRODID:-//Kálmán Imre Művelődési Központ - ECPv6.3.3.1//NONSGML v1.0//EN
CALSCALE:GREGORIAN
METHOD:PUBLISH
X-WR-CALNAME:Kálmán Imre Művelődési Központ
X-ORIGINAL-URL:https://muvelodesikozpont-siofok.hu
X-WR-CALDESC:Events for Kálmán Imre Művelődési Központ
REFRESH-INTERVAL;VALUE=DURATION:PT1H
X-Robots-Tag:noindex
X-PUBLISHED-TTL:PT1H
BEGIN:VTIMEZONE
TZID:Europe/Budapest
BEGIN:DAYLIGHT
TZOFFSETFROM:+0100
TZOFFSETTO:+0200
TZNAME:CEST
DTSTART:20260329T010000
END:DAYLIGHT
BEGIN:STANDARD
TZOFFSETFROM:+0200
TZOFFSETTO:+0100
TZNAME:CET
DTSTART:20261025T010000
END:STANDARD
END:VTIMEZONE
BEGIN:VEVENT
DTSTART;TZID=Europe/Budapest:20260418T150000
DTEND;TZID=Europe/Budapest:20260418T150000
DTSTAMP:20260424T101050
CREATED:20251119T135029Z
LAST-MODIFIED:20260308T100915Z
UID:10000789-1776524400-1776524400@muvelodesikozpont-siofok.hu
SUMMARY:Az Illúzió Mesterei
DESCRIPTION:0000Nap00óra00perc00másodperc\n\n2026. április 18. szombat 15.00 és 2026. április 18. szombat 19.00\nVendégprodukció: Az Illúzió Mesterei\nKálmán Imre Művelődési Központ\, színházterem \nMegújult műsorral\, új fellépőkkel térnek vissza az Illúzió Mesterei Siófokra! \nEgy felejthetetlen este résztvevői lehetnek\, akik ellátogatnak az Illúzió Mesterei showműsorra. A műsorban szereplő előadók nemzetközi Tv show-k\, rangos fesztiválok és óceánjáró luxushajók rendszeres fellépői. \nLas Vegas\, New York\, Peking\, Dubai\, Párizs és Monte Carlo színpadai után most készek arra\, hogy az Önök városának közönségét is elvarázsolják! Nincs ahhoz fogható\, mint élőben látni a varázslatot. Itt nincsenek kameratrükkök: a hihetetlen illúziók a nézők előtt\, sőt\, azok bevonásával történnek. \nA műsorban fellép a nagyszínpadi illúziók mestere Zee Zeus\, Kristály Márton vízgömbművész\, Habók János több százezres követőtáborral rendelkező bűvészmester és a fesztivál díjnyertes kézügyességi bűvész tehetség Bognár Krisztián. \nNe maradjon le erről a felejthetetlen élményről\, vegye meg a jegyét még ma! \nAz előadás időtartama kb. 2×50 perc\, 1 szünet.\nAz előadást 8 éves kortól ajánljuk.\nA dátum- és műsorváltoztatás jogát fenntartjuk. \nJegyek kaphatóak minden hétköznap 12-18-ig a KIMK jegypénztárában\, illetve az illuziomesterei.jegy.hu oldalon:\nhttps://illuziomesterei.jegy.hu/program/az-illuzio-mesterei-siofok-144213
URL:https://muvelodesikozpont-siofok.hu/esemenyek/vendegprodukcio-az-illuzio-mesterei/
CATEGORIES:Előadások, koncertek,Tavaszi Fesztivál
ATTACH;FMTTYPE=image/png:https://muvelodesikozpont-siofok.hu/wp-content/uploads/2025/11/siofoki_tavaszi_fesztival-8.png
END:VEVENT
END:VCALENDAR