BEGIN:VCALENDAR
VERSION:2.0
PRODID:-//Kálmán Imre Művelődési Központ - ECPv6.3.3.1//NONSGML v1.0//EN
CALSCALE:GREGORIAN
METHOD:PUBLISH
X-ORIGINAL-URL:https://muvelodesikozpont-siofok.hu
X-WR-CALDESC:Events for Kálmán Imre Művelődési Központ
REFRESH-INTERVAL;VALUE=DURATION:PT1H
X-Robots-Tag:noindex
X-PUBLISHED-TTL:PT1H
BEGIN:VTIMEZONE
TZID:Europe/Budapest
BEGIN:DAYLIGHT
TZOFFSETFROM:+0100
TZOFFSETTO:+0200
TZNAME:CEST
DTSTART:20250330T010000
END:DAYLIGHT
BEGIN:STANDARD
TZOFFSETFROM:+0200
TZOFFSETTO:+0100
TZNAME:CET
DTSTART:20251026T010000
END:STANDARD
END:VTIMEZONE
BEGIN:VEVENT
DTSTART;TZID=Europe/Budapest:20250301T190000
DTEND;TZID=Europe/Budapest:20250301T190000
DTSTAMP:20260423T104114
CREATED:20240903T135957Z
LAST-MODIFIED:20250225T093408Z
UID:10000627-1740855600-1740855600@muvelodesikozpont-siofok.hu
SUMMARY:Vendégprodukció: A MINISZTER FÉLRELÉP
DESCRIPTION:2025. március 1. szombat 19.00\nRAY COONEY: A MINISZTER FÉLRELÉP – Vendégprodukció\nbohózat\nBánfalvy Stúdió 2024\nKálmán Imre Művelődési Központ\, színházterem \nFordította: Ungvári Tamás\nDramaturg: Benedek Albert \nA darab elnyerte a Laurence Olivierrõl elnevezett legjobb vígjátéknak járó díjat Angliában\, 1992-ben. \nRichard Willey\, a kormány egyik sikeres\, fiatal minisztere gáláns kalandra készül az ellenzéki frakció titkárnőjével (Jane) egy patinás hotelben. Az este azonban nem kezdődik a legjobban\, hiszen a szobába belépve\, azonnal találnak egy ”hullát” az ablakban. Richard végül segítségül hívja parlamenti titkárát\, Geroge Pidgen-t\, így már hárman próbálják megoldani ezt a rendkívüli helyzetet. Nincs könnyű dolguk\, hiszen a szálloda igazgatója és főpincére mindig a legrosszabb pillanatban zavarja meg őket\, míg Richard felesége\, George édesanyjának ápolónője\, valamint a fiatal szerető féltékeny férje csak tovább bonyolítja az amúgy is kínos szituációt. Ráadásul az éjszaka még mindig tartogat meglepetéseket! \nSzereposztás\nRichard Willey\n(jó fellépésű\, sikeres\, fiatal miniszter) – VASTAG TAMÁS\nA menedzser\n(a hotel kemény kezű igazgatója) – HARMATH IMRE\nA főpincér\n(hiú és ravasz\, vén szolga) – URMAI GÁBOR\nJane Worthington\n(vonzó\, de szeleburdi ifjú hölgy) – KONDÁKOR ZSÓFIA\nA hulla\n(jellegzetességek nélküli\, középkorú férfi) – PINTÉR GÁBOR / GOMBÁS ÁDÁM\nGeorge Pigden\n(tisztességes férfi\, bár igen ideges) – HUJBER FERENC\nRonnie\n(egy dühös fiatalember) – GANXSTA ZOLEE\nPamela\n(finom\, vonzó\, ötvenéves hölgy) – BUGÁR ANNA / MEZEI RÉKA LÉDA\nÁpolónő\n(parancsoló\, de vonzó\, negyvenéves asszony) – STELCZER TIMEA \nAlkotók\nRendező: Horváth Csaba\nProducer: HCS\, Oliver W. Horvath\nKoreográfus: Horváth Gyula Antal\nDíszlet- és jelmeztervező: Győri Gabriella \nJegyek kaphatóak minden hétköznap 12-18-ig a KIMK jegypénztárában\, illetve a jegy.hu oldalon:\nhttps://www.jegy.hu/program/ray-cooney-a-miniszter-felrelep-164959
URL:https://muvelodesikozpont-siofok.hu/esemenyek/a-miniszter-felrelep/
CATEGORIES:Előadások, koncertek,Vendégprodukció
ATTACH;FMTTYPE=image/jpeg:https://muvelodesikozpont-siofok.hu/wp-content/uploads/2024/09/ray-cooney-a-miniszter-felrelep-original-241937-e1728457236568.jpg
END:VEVENT
END:VCALENDAR